BEGIN:VCALENDAR
VERSION:2.0
PRODID:-//ical.marudot.com//iCal Event Maker
CALSCALE:GREGORIAN
BEGIN:VTIMEZONE
TZID:America/New_York
LAST-MODIFIED:20250410T142247Z
TZURL:https://www.tzurl.org/zoneinfo-outlook/America/New_York
X-LIC-LOCATION:America/New_York
BEGIN:DAYLIGHT
TZNAME:EDT
TZOFFSETFROM:-0500
TZOFFSETTO:-0400
DTSTART:19700308T020000
RRULE:FREQ=YEARLY;BYMONTH=3;BYDAY=2SU
END:DAYLIGHT
BEGIN:STANDARD
TZNAME:EST
TZOFFSETFROM:-0400
TZOFFSETTO:-0500
DTSTART:19701101T020000
RRULE:FREQ=YEARLY;BYMONTH=11;BYDAY=1SU
END:STANDARD
END:VTIMEZONE
BEGIN:VEVENT
DTSTAMP:20260424T163127Z
UID:1777048241994-36984@ical.marudot.com
DTSTART;TZID=America/New_York:20260511T110000
DTEND;TZID=America/New_York:20260514T200000
SUMMARY:OVO WAREHOUSE SALE
URL:www.thesamplesaleguys.com
LOCATION:The Terrace - 1680 Creditstone Rd\, Vaughan\, ON
BEGIN:VALARM
ACTION:DISPLAY
DESCRIPTION:OVO WAREHOUSE SALE
TRIGGER:-PT1H
END:VALARM
END:VEVENT
END:VCALENDAR